Workbook
Name AcRoutier: #REF!
Name Activ_Foison_BurLog: #REF!
Name Activ_Foison_PR: #REF!
Name Capacité_Parking: #REF!
Name Exo_IS: INDEX(#REF!,MATCH(#REF!,#REF!,0))
Name Fin_Copy: #REF!
Name Fin_Paste: #REF!
Name Flag_PR_Prom: #REF!
Name FrNotaire: #REF!
Name Header1: IF(COUNTA('Bilan d''opération'!$A$6:$A1048576)=0,0,INDEX('Bilan d''opération'!$A$6:$A1048576,MATCH(ROW('Bilan d''opération'!$A1048576),'Bilan d''opération'!$A$6:$A1048576,1)))+1
Name Header1: IF(COUNTA(Légende!$A$6:$A1048576)=0,0,INDEX(Légende!$A$6:$A1048576,MATCH(ROW(Légende!$A1048576),Légende!$A$6:$A1048576,1)))+1
Name Header1: IF(COUNTA('Plan de financement'!$A$6:$A1048576)=0,0,INDEX('Plan de financement'!$A$6:$A1048576,MATCH(ROW('Plan de financement'!$A1048576),'Plan de financement'!$A$6:$A1048576,1)))+1
Name Header1: IF(COUNTA(#REF!)=0,0,INDEX(#REF!,MATCH(ROW(#REF!),#REF!,1)))+1
Name Header2: Légende!Header1-1 & "." & MAX(1,COUNTA(INDEX(Légende!$B$6:$B1048576,MATCH(Légende!Header1-1,Légende!$A$6:$A1048576,0)):'Légende'!$B1048576))
Name jours_trimestre: #REF!
Name Mastercheck: #REF!
Name Mémoire_Check: 'Plan de financement'!#REF!
Name Mémoire_Output_1: 'Plan de financement'!#REF!
Name Mémoire_Output_2: 'Plan de financement'!#REF!
Name Nombre_de_scénarios: #REF!
Name Num_Scénario: #REF!
Name Output_1_Scénario: 'Plan de financement'!#REF!
Name Output_2_Scénario: 'Plan de financement'!#REF!
Name Switch_AccèsR_Aménageur: INDEX(#REF!,MATCH(#REF!,#REF!,0))
Name tolérance: #REF!
Name Total_SDP: #REF!
Name Total_Surf_Ter: #REF!
Name TVA: #REF!
Name Van_Px_Terrain_Amen_copy: #REF!
Name Van_Px_Terrain_Amen_paste: #REF!
Name Van_Px_Terrain_copy: 'Bilan d''opération'!#REF!
Name Van_Px_Terrain_paste: 'Bilan d''opération'!#REF!
Name Van_Px_Terrain_Prom_copy: #REF!
Name Van_Px_Terrain_Prom_paste: #REF!

Sheet Légende
A1: =UPPER(MID(CELL("filename",A1),FIND("[",CELL("filename",A1))+1,FIND("]",CELL("filename",A1))-FIND("[",CELL("filename",A1))-5)) -> ANNEXE 3 - DOC7_CADRE FINANCIER.
A2: =UPPER(MID(CELL("filename",A3),FIND("]",CELL("filename",A3))+1,LEN(CELL("filename",A3)))) -> LÉGENDE
A3: OFFRE INITIALE
A7: =Header1 -> 1 | B7: Légende
B9: =Header2 -> 1.1 | C9: Légende couleurs
D11: Données d'entrée à renseigner | F11: aaa
D13: Calcul | F13: aaa
D15: Contrôle | F15: 0
B18: =Header2 -> 1.2 | C18: Légende onglets
D20: Onglets d'Hypothèses
D22: Onglets Légende
A24: =Header1 -> 2 | B24: Fin

Sheet Bilan d'opération
A1: =UPPER(MID(CELL("filename",A1),FIND("[",CELL("filename",A1))+1,FIND("]",CELL("filename",A1))-FIND("[",CELL("filename",A1))-5)) -> ANNEXE 3 - DOC7_CADRE FINANCIER.
A2: =UPPER(MID(CELL("filename",A3),FIND("]",CELL("filename",A3))+1,LEN(CELL("filename",A3)))) -> BILAN D'OPÉRATION
A3: OFFRE INITIALE
A8: =Header1 -> 1 | B8: Programmation
D10: Dans cette partie, le candidat précisera s'ils sont connus, les noms des porteurs de projet (maitre d'ouvrage), financeurs, investisseurs, et preneurs envisagés, pour chaque type d'actif développé. Le porteur de projet s'entend comme le maître d'ouvrage de l'opération, en période de construction. En cas de montage en VEFA, le candidat précisera le nom du vendeur comme porteur du projet, et le nom de l'acquéreur comme investisseur. Au poste "investisseur", le candidat indiquera le(s) propriétaire(s) futur(s) de(s) l'immeuble(s) livré(s). Au poste "preneur", il détaillera le(s) locataire(s)/occupant(s) envisagé(s), s'ils sont connus. Le candidat est libre d'adapter les tableaux ci-dessous aux spécificités de son opération.
C11: Surfaces de Plancher | H11: SDP | J11: SHAB ou SU | L11: Porteur de projet / promoteur | M11: Financeur | N11: Investisseur | O11: Preneur / utilisateur
D12: Logements
E13: Type de logements 1 | F13: Cession | G13: m²
E14: Type de logements 2 | F14: Cession | G14: m²
E15: Type de logements 3 | F15: Cession | G15: m²
E16: Type de logements 4 | F16: Cession | G16: m²
E17: Insérer ligne pour ajouter typologie
D19: Hôtellerie
E20: Type d'hôtel 1 | F20: Cession | G20: m²
E21: Type d'hôtel 2 | F21: Cession | G21: m²
E22: Type d'hôtel 3 | F22: Cession | G22: m²
E23: Type d'hôtel 4 | F23: Cession | G23: m²
E24: Insérer ligne pour ajouter typologie
D26: Bureaux
E27: Type de bureaux 1 | F27: Cession | G27: m²
E28: Type de bureaux 2 | F28: Cession | G28: m²
E29: Type de bureaux 3 | F29: Cession | G29: m²
E30: Type de bureaux 4 | F30: Cession | G30: m²
E31: Insérer ligne pour ajouter typologie
D33: Commerces
E34: Type de commerces 1 | F34: Cession | G34: m²
E35: Type de commerces 2 | F35: Cession | G35: m²
E36: Type de commerces 3 | F36: Cession | G36: m²
E37: Type de commerces 4 | F37: Cession | G37: m²
E38: Insérer ligne pour ajouter typologie
D40: Activités
E41: Type d'activités 1 | F41: Cession | G41: m²
E42: Type d'activités 2 | F42: Cession | G42: m²
E43: Type d'activités 3 | F43: Cession | G43: m²
E44: Type d'activités 4 | F44: Cession | G44: m²
E45: Insérer ligne pour ajouter typologie
D47: Autres espaces/équipements
E48: Type d'autres espaces 1 | F48: Cession | G48: m²
E49: Type d'autres espaces 2 | F49: Cession | G49: m²
E50: Type d'autres espaces 3 | F50: Cession | G50: m²
...

Sheet Plan de financement
A1: =UPPER(MID(CELL("filename",A1),FIND("[",CELL("filename",A1))+1,FIND("]",CELL("filename",A1))-FIND("[",CELL("filename",A1))-5)) -> ANNEXE 3 - DOC7_CADRE FINANCIER.
A2: =UPPER(MID(CELL("filename",A3),FIND("]",CELL("filename",A3))+1,LEN(CELL("filename",A3)))) -> PLAN DE FINANCEMENT
A3: OFFRE INITIALE
A7: =Header1 -> 1 | B7: Financement de l'opération
B9: =Header2 -> 1.1 | C9: Plan de financement
D11: Plan de financement - Bilan 1
D12: Emplois | G12: Ressources | K12: Check
D14: ='Bilan d''opération'!D111 -> Foncier | G14: Ressource 1
D15: ='Bilan d''opération'!D125&"" -> Travaux | G15: Ressource 2
D16: ='Bilan d''opération'!D147&"" -> Honoraires de construction | G16: Ressource 3
D17: ='Bilan d''opération'!D153&"" -> Frais de maîtrise d'ouvrage | G17: Ressource 4
D18: ='Bilan d''opération'!D161&"" -> Marge | G18: Ressource 5
D19: Insérer ligne pour ajouter typologie | G19: Insérer ligne pour ajouter typologie
D21: Total Emplois | F21: =SUM(F14:F20) -> 0 | G21: Total Ressources | I21: =SUM(I14:I20) -> 0 | K21: =((F21-I21)<>0)*1 -> 0
D23: Tableau à dupliquer si besoin
D25: Ce plan de financement est à dupliquer en fonction du fractionnement de l'opération.
B28: =Header2 -> 1.2 | C28: Détail des Ressources de financement
D30: Ressources de financement - Bilan 1 | E30: Financeur | F30: Taux all-in de financement | G30: Conditions suspensives de disponibilité du financement | H30: Autres droits / obligations liés au financement | I30: Lettre d'engagement / d'intérêt jointe à l'offre
D32: =G14 -> Ressource 1 | I32: Aucune des deux
D33: =G15 -> Ressource 2 | I33: Aucune des deux
D34: =G16 -> Ressource 3 | I34: Aucune des deux
D35: =G17 -> Ressource 4 | I35: Aucune des deux
D36: =G18 -> Ressource 5 | I36: Aucune des deux
D37: =G19 -> Insérer ligne pour ajouter typologie
D40: Tableau à dupliquer si besoin
D42: Ce tableau est à dupliquer en fonction du fractionnement de l'opération.
A45: =Header1 -> 2 | B45: List
D47: Aucune des deux
D48: Lettre d'intérêt / de soutien
D49: Lettre d'engagement
A51: =Header1 -> 3 | B51: Fin
